BEGIN:VCALENDAR
VERSION:2.0
PRODID:-//She Served Initiative - ECPv6.15.20//NONSGML v1.0//EN
CALSCALE:GREGORIAN
METHOD:PUBLISH
X-WR-CALNAME:She Served Initiative
X-ORIGINAL-URL:https://sheservedinitiative.org
X-WR-CALDESC:Events for She Served Initiative
REFRESH-INTERVAL;VALUE=DURATION:PT1H
X-Robots-Tag:noindex
X-PUBLISHED-TTL:PT1H
BEGIN:VTIMEZONE
TZID:America/New_York
BEGIN:DAYLIGHT
TZOFFSETFROM:-0500
TZOFFSETTO:-0400
TZNAME:EDT
DTSTART:20230312T070000
END:DAYLIGHT
BEGIN:STANDARD
TZOFFSETFROM:-0400
TZOFFSETTO:-0500
TZNAME:EST
DTSTART:20231105T060000
END:STANDARD
BEGIN:DAYLIGHT
TZOFFSETFROM:-0500
TZOFFSETTO:-0400
TZNAME:EDT
DTSTART:20240310T070000
END:DAYLIGHT
BEGIN:STANDARD
TZOFFSETFROM:-0400
TZOFFSETTO:-0500
TZNAME:EST
DTSTART:20241103T060000
END:STANDARD
BEGIN:DAYLIGHT
TZOFFSETFROM:-0500
TZOFFSETTO:-0400
TZNAME:EDT
DTSTART:20250309T070000
END:DAYLIGHT
BEGIN:STANDARD
TZOFFSETFROM:-0400
TZOFFSETTO:-0500
TZNAME:EST
DTSTART:20251102T060000
END:STANDARD
END:VTIMEZONE
BEGIN:VTIMEZONE
TZID:Europe/London
BEGIN:DAYLIGHT
TZOFFSETFROM:+0000
TZOFFSETTO:+0100
TZNAME:BST
DTSTART:20230326T010000
END:DAYLIGHT
BEGIN:STANDARD
TZOFFSETFROM:+0100
TZOFFSETTO:+0000
TZNAME:GMT
DTSTART:20231029T010000
END:STANDARD
BEGIN:DAYLIGHT
TZOFFSETFROM:+0000
TZOFFSETTO:+0100
TZNAME:BST
DTSTART:20240331T010000
END:DAYLIGHT
BEGIN:STANDARD
TZOFFSETFROM:+0100
TZOFFSETTO:+0000
TZNAME:GMT
DTSTART:20241027T010000
END:STANDARD
BEGIN:DAYLIGHT
TZOFFSETFROM:+0000
TZOFFSETTO:+0100
TZNAME:BST
DTSTART:20250330T010000
END:DAYLIGHT
BEGIN:STANDARD
TZOFFSETFROM:+0100
TZOFFSETTO:+0000
TZNAME:GMT
DTSTART:20251026T010000
END:STANDARD
END:VTIMEZONE
BEGIN:VEVENT
DTSTART;TZID=America/New_York:20241205T100000
DTEND;TZID=America/New_York:20241205T140000
DTSTAMP:20260422T025900
CREATED:20241114T221840Z
LAST-MODIFIED:20241114T221840Z
UID:732-1733392800-1733407200@sheservedinitiative.org
SUMMARY:Empowerment Health Fair
DESCRIPTION:The She Served Initiative will have an info table at the Fair\, featuring swag\, recent issues of She Served Magazine\, and an exciting opportunity to sign up your organization for a personalized 2025 She Served photoshoot.
URL:https://sheservedinitiative.org/event/empowerment-health-fair/
LOCATION:The Solarium at Historic Scottish Rite\, 319 Hill Street\, Decatur\, Georgia\, 30030\, United States
END:VEVENT
BEGIN:VEVENT
DTSTART;TZID=America/New_York:20241121T190000
DTEND;TZID=America/New_York:20241121T190000
DTSTAMP:20260422T025900
CREATED:20240829T211731Z
LAST-MODIFIED:20240905T174838Z
UID:665-1732215600-1732215600@sheservedinitiative.org
SUMMARY:Guest Speaker at Lions Club
DESCRIPTION:We are honored to have been invited by the Lions Club to share about women in the military and the She Served Initiative.
URL:https://sheservedinitiative.org/event/guest-speaker-at-lions-club/
LOCATION:American Legion Post 201\, 201 Wills Road\, Alpharetta\, GA 30009
CATEGORIES:Keynote Speaker
END:VEVENT
BEGIN:VEVENT
DTSTART;TZID=America/New_York:20241105T100000
DTEND;TZID=America/New_York:20241105T113000
DTSTAMP:20260422T025900
CREATED:20240905T170459Z
LAST-MODIFIED:20240905T172614Z
UID:674-1730800800-1730806200@sheservedinitiative.org
SUMMARY:She Served Exhibit  Honoring Women Who Served Hosted by Mount Dora at The Cross Church
DESCRIPTION:
URL:https://sheservedinitiative.org/event/she-served-exhibit-honoring-women-who-served/
CATEGORIES:Print Exhibit
END:VEVENT
BEGIN:VEVENT
DTSTART;VALUE=DATE:20241027
DTEND;VALUE=DATE:20241103
DTSTAMP:20260422T025900
CREATED:20240430T165517Z
LAST-MODIFIED:20240430T230100Z
UID:304-1729987200-1730591999@sheservedinitiative.org
SUMMARY:Heroes Haven Photo Shoot
DESCRIPTION:Heroes Haven – ROAD TRIP! The She Served Initiative is thrilled to be heading to Park City\, Utah from October 27th through November 2\, 2024. Our hosts will be Heroes Haven. Stay in touch through our newsletter\, social media sites and this website for all the upcoming details!  Or call us from our contact page and we’ll be in touch.
URL:https://sheservedinitiative.org/event/heroes-haven-photo-shoot/
CATEGORIES:Photo Shoot
ATTACH;FMTTYPE=image/jpeg:https://sheservedinitiative.org/wp-content/uploads/2024/04/Heros-Haven-Utah.jpg
END:VEVENT
BEGIN:VEVENT
DTSTART;TZID=America/New_York:20241005T170000
DTEND;TZID=America/New_York:20241005T210000
DTSTAMP:20260422T025900
CREATED:20240905T171612Z
LAST-MODIFIED:20240905T175459Z
UID:677-1728147600-1728162000@sheservedinitiative.org
SUMMARY:She Served Print Exhibit at the annual Orchid Gala Hosted by Villagers for Veterans
DESCRIPTION:“We are thrilled to be part of this incredible annual event hosted by Villagers for Veterans in Florida. Last year\, we had the honor of photographing 18 inspiring women veterans and sharing their stories in our magazine. This year\, Villagers for Veterans is taking it a step further by hosting a special print exhibit featuring all the women photographed at last year’s event through the She Served Initiative.\nAll proceeds from the gala will go towards building a home for homeless women veterans—a cause that is close to our hearts. We are always excited to collaborate with the Villagers and support this vital mission.”
URL:https://sheservedinitiative.org/event/she-served-print-exhibit/
LOCATION:Savannah Recreation Center\, 1575 Buena Vista Boulevard\, The Villages\, Florida
ATTACH;FMTTYPE=image/jpeg:https://sheservedinitiative.org/wp-content/uploads/2024/09/453015141_520213810676938_2047303487568453933_n.jpg
END:VEVENT
BEGIN:VEVENT
DTSTART;VALUE=DATE:20240920
DTEND;VALUE=DATE:20240925
DTSTAMP:20260422T025900
CREATED:20240430T165716Z
LAST-MODIFIED:20240905T180330Z
UID:301-1726790400-1727222399@sheservedinitiative.org
SUMMARY:Humble Warrior Photo Shoot
DESCRIPTION:“A special\, invitation-only event hosted by Georgia Military Women\, Humble Warrior Wellness and Yoga and She Served\, Radiant Warrior celebrates the remarkable achievements of women veterans. The event will feature wellness education\, including sessions on nutrition\, yoga\, and holistic well-being led by Humble Warrior. As part of the celebration\, The She Served Initiative will offer complimentary photoshoots for all participants and highlight their stories in an upcoming special edition of our magazine.”
URL:https://sheservedinitiative.org/event/humble-warrior-photo-shoot/
CATEGORIES:Photo Shoot
ATTACH;FMTTYPE=image/jpeg:https://sheservedinitiative.org/wp-content/uploads/2024/04/Humbler-Warrior-Georgia-Military-Women-She-Served.jpg
END:VEVENT
BEGIN:VEVENT
DTSTART;TZID=America/New_York:20240912T190000
DTEND;TZID=America/New_York:20240912T200000
DTSTAMP:20260422T025900
CREATED:20240905T181136Z
LAST-MODIFIED:20240905T181136Z
UID:691-1726167600-1726171200@sheservedinitiative.org
SUMMARY:She Served Book Club
DESCRIPTION:We are hosing a private book club discussing the book “The Women” by Kristin Hannah”  Special guest\, Vietnam War Nurse Loretta Forlaw.
URL:https://sheservedinitiative.org/event/she-served-book-club/
END:VEVENT
BEGIN:VEVENT
DTSTART;TZID=America/New_York:20240816T073000
DTEND;TZID=America/New_York:20240816T080000
DTSTAMP:20260422T025900
CREATED:20240813T172032Z
LAST-MODIFIED:20240813T172032Z
UID:616-1723793400-1723795200@sheservedinitiative.org
SUMMARY:Guest Speaker at Rotary of Alpharetta GA
DESCRIPTION:
URL:https://sheservedinitiative.org/event/guest-speaker-at-rotary-of-alpharetta-ga/
END:VEVENT
BEGIN:VEVENT
DTSTART;TZID=America/New_York:20240803T080000
DTEND;TZID=America/New_York:20240803T170000
DTSTAMP:20260422T025900
CREATED:20240701T173301Z
LAST-MODIFIED:20240708T164756Z
UID:550-1722672000-1722704400@sheservedinitiative.org
SUMMARY:Keynote Speaker Old Soldiers Day
DESCRIPTION:The She Served Initiative is honored to participate as the keynote speaker at the Old Soldiers Day Celebration in Alpharetta\, Georgia. Sponsored annually by the American Legion Post 201\, this year’s event shines a spotlight on women veterans. We invite you to join us in celebrating and honoring the remarkable contributions of women who have served our country.
URL:https://sheservedinitiative.org/event/keynote-speaker-old-soldiers-day/
LOCATION:Old Soldiers Day\, Alpharetta\, Georgia
CATEGORIES:Keynote Speaker
END:VEVENT
BEGIN:VEVENT
DTSTART;VALUE=DATE:20240615
DTEND;VALUE=DATE:20240616
DTSTAMP:20260422T025900
CREATED:20240430T205514Z
LAST-MODIFIED:20240430T232907Z
UID:325-1718409600-1718495999@sheservedinitiative.org
SUMMARY:Womens Veterans Day - Johns Creek
DESCRIPTION:Women’s Veterans Day celebration will be held at the Johns Creek Veterans Association. Martina Schmidt\, US Air Force Veteran and owner of The She Served Initiative\, will serve as Keynote Speaker at the Johns Creek\, Georgia location.  \nThe Johns Creek Veterans Association is home to the 2nd largest Vietnam Veterans Wall (second only to the original in Washington\, DC). Come and enjoy the beautiful memorial walk in tribute to veterans of all conflicts. Contact us for more details.
URL:https://sheservedinitiative.org/event/womens-veterans-day-johns-creek/
CATEGORIES:Keynote Speaker
ATTACH;FMTTYPE=image/jpeg:https://sheservedinitiative.org/wp-content/uploads/2024/04/Johns-Creek-Veterans-Memorial-sm.jpg
END:VEVENT
BEGIN:VEVENT
DTSTART;VALUE=DATE:20240609
DTEND;VALUE=DATE:20240610
DTSTAMP:20260422T025900
CREATED:20240430T204805Z
LAST-MODIFIED:20240430T232824Z
UID:322-1717891200-1717977599@sheservedinitiative.org
SUMMARY:Hope 4 Veterans Photo Exhibit
DESCRIPTION:Hope 4 Veterans will collaborate with She Served Initiative in St Augustine\, Florida on June 9\, 2024 for a print exhibit of 20 women veterans. The St. Johns Art Council and Endowment of Performing Art will be our sponsor. Please visit Hope 4 Veterans website for more information on their therapeutic arts program. Contact us for more details.
URL:https://sheservedinitiative.org/event/hope-4-veterans-photo-shoot/
CATEGORIES:Print Exhibit
ATTACH;FMTTYPE=image/webp:https://sheservedinitiative.org/wp-content/uploads/2024/04/Hope4Veterans-St-Augustine-New.webp
END:VEVENT
END:VCALENDAR