BEGIN:VCALENDAR
VERSION:2.0
PRODID:-//She Served Initiative - ECPv6.15.20//NONSGML v1.0//EN
CALSCALE:GREGORIAN
METHOD:PUBLISH
X-WR-CALNAME:She Served Initiative
X-ORIGINAL-URL:https://sheservedinitiative.org
X-WR-CALDESC:Events for She Served Initiative
REFRESH-INTERVAL;VALUE=DURATION:PT1H
X-Robots-Tag:noindex
X-PUBLISHED-TTL:PT1H
BEGIN:VTIMEZONE
TZID:America/New_York
BEGIN:DAYLIGHT
TZOFFSETFROM:-0500
TZOFFSETTO:-0400
TZNAME:EDT
DTSTART:20230312T070000
END:DAYLIGHT
BEGIN:STANDARD
TZOFFSETFROM:-0400
TZOFFSETTO:-0500
TZNAME:EST
DTSTART:20231105T060000
END:STANDARD
BEGIN:DAYLIGHT
TZOFFSETFROM:-0500
TZOFFSETTO:-0400
TZNAME:EDT
DTSTART:20240310T070000
END:DAYLIGHT
BEGIN:STANDARD
TZOFFSETFROM:-0400
TZOFFSETTO:-0500
TZNAME:EST
DTSTART:20241103T060000
END:STANDARD
BEGIN:DAYLIGHT
TZOFFSETFROM:-0500
TZOFFSETTO:-0400
TZNAME:EDT
DTSTART:20250309T070000
END:DAYLIGHT
BEGIN:STANDARD
TZOFFSETFROM:-0400
TZOFFSETTO:-0500
TZNAME:EST
DTSTART:20251102T060000
END:STANDARD
END:VTIMEZONE
BEGIN:VEVENT
DTSTART;TZID=America/New_York:20241105T100000
DTEND;TZID=America/New_York:20241105T113000
DTSTAMP:20260421T060845
CREATED:20240905T170459Z
LAST-MODIFIED:20240905T172614Z
UID:674-1730800800-1730806200@sheservedinitiative.org
SUMMARY:She Served Exhibit  Honoring Women Who Served Hosted by Mount Dora at The Cross Church
DESCRIPTION:
URL:https://sheservedinitiative.org/event/she-served-exhibit-honoring-women-who-served/
CATEGORIES:Print Exhibit
END:VEVENT
BEGIN:VEVENT
DTSTART;VALUE=DATE:20240609
DTEND;VALUE=DATE:20240610
DTSTAMP:20260421T060845
CREATED:20240430T204805Z
LAST-MODIFIED:20240430T232824Z
UID:322-1717891200-1717977599@sheservedinitiative.org
SUMMARY:Hope 4 Veterans Photo Exhibit
DESCRIPTION:Hope 4 Veterans will collaborate with She Served Initiative in St Augustine\, Florida on June 9\, 2024 for a print exhibit of 20 women veterans. The St. Johns Art Council and Endowment of Performing Art will be our sponsor. Please visit Hope 4 Veterans website for more information on their therapeutic arts program. Contact us for more details.
URL:https://sheservedinitiative.org/event/hope-4-veterans-photo-shoot/
CATEGORIES:Print Exhibit
ATTACH;FMTTYPE=image/webp:https://sheservedinitiative.org/wp-content/uploads/2024/04/Hope4Veterans-St-Augustine-New.webp
END:VEVENT
END:VCALENDAR